BEGIN:VCALENDAR
VERSION:2.0
PRODID:-//Mommy Connections Burlington - ECPv6.15.17.1//NONSGML v1.0//EN
CALSCALE:GREGORIAN
METHOD:PUBLISH
X-WR-CALNAME:Mommy Connections Burlington
X-ORIGINAL-URL:https://mommyconnections.ca/burlington
X-WR-CALDESC:Events for Mommy Connections Burlington
REFRESH-INTERVAL;VALUE=DURATION:PT1H
X-Robots-Tag:noindex
X-PUBLISHED-TTL:PT1H
BEGIN:VTIMEZONE
TZID:America/Toronto
BEGIN:DAYLIGHT
TZOFFSETFROM:-0500
TZOFFSETTO:-0400
TZNAME:EDT
DTSTART:20250309T070000
END:DAYLIGHT
BEGIN:STANDARD
TZOFFSETFROM:-0400
TZOFFSETTO:-0500
TZNAME:EST
DTSTART:20251102T060000
END:STANDARD
BEGIN:DAYLIGHT
TZOFFSETFROM:-0500
TZOFFSETTO:-0400
TZNAME:EDT
DTSTART:20260308T070000
END:DAYLIGHT
BEGIN:STANDARD
TZOFFSETFROM:-0400
TZOFFSETTO:-0500
TZNAME:EST
DTSTART:20261101T060000
END:STANDARD
BEGIN:DAYLIGHT
TZOFFSETFROM:-0500
TZOFFSETTO:-0400
TZNAME:EDT
DTSTART:20270314T070000
END:DAYLIGHT
BEGIN:STANDARD
TZOFFSETFROM:-0400
TZOFFSETTO:-0500
TZNAME:EST
DTSTART:20271107T060000
END:STANDARD
END:VTIMEZONE
BEGIN:VEVENT
DTSTART;TZID=America/Toronto:20260415T110000
DTEND;TZID=America/Toronto:20260415T123000
DTSTAMP:20260423T143354
CREATED:20260311T145108Z
LAST-MODIFIED:20260311T145108Z
UID:8367-1776250800-1776256200@mommyconnections.ca
SUMMARY:Aldershot Mom & Baby (0-8M): Wednesdays\, March 25 - May 6
DESCRIPTION:Meet other moms in Burlington while learning and having fun with your baby!  \nOur flagship Mom & Baby program offers new moms a unique opportunity to meet others\, gather valuable parenting info\, and learn about local programs and services – in a fun\, low-pressure\, social and inclusive environment. \nEach week features either a discussion led by a local expert on topics ranging from baby sleep to introducing solids to baby massage\, or a fun and interactive activity for mom and baby – like yoga or music.  There’s also always an informal opportunity to chat with others experiencing the same challenges\, fears and excitement as you are. \nThis seven week program runs every Wednesday morning\, 11am-12:30pm from March 25 to May 6\, 2026. We will meet indoors at The WOMB (World of My Baby)\, which is located at 1159 King Rd in the Aldershot neighbourhood. \nThis class is ideal for moms and their non-mobile babies\, aged newborn to 8 months.  The cost is $205+HST. \nIncluded in your registration fee is: \n\nSeven 90-min classes – each class full of valuable information\, connection\, and bonding opportunities\nA private WhatsApp group chat – to stay connected outside of class time\n\nEach class will be limited to 13 participants. Unfortunately you will not be allowed to bring older siblings to the class. \nWe will do our best to host classes in person\, however we reserve the right to move classes to a virtual format in the event of inclement weather\, illness or new government restrictions. For our full cancellation policy\, click here. \nWhy Mommy Connections? \nHere are some of our past participants’ favourite things about this one-of-a-kind program (and why we think you’ll love it too!): \n\nIt’s a great way – and reason – to get out of the house in the early months of parenthood\nThe environment is warm\, welcoming and inclusive\nYou’ll make connections that will carry you through your mat leave – and beyond\nIt provides a unique chance to try baby-focused activities ‘before you buy’\nThe expert information you’ll receive will make parenting easier (and more fun!)\nAll the freebies!\n\nClick ‘Register Now’ to grab your spot – or email burlington@mommyconnections.ca if you have questions. \nIt takes a village. We’re here to help you build yours.
URL:https://mommyconnections.ca/burlington/event/aldershot-mom-baby-0-8m-wednesdays-march-25-may-6/2026-04-15/
LOCATION:The WOMB\, Burlington\, 1159 King Rd.\, Burlington\, Ontario\, L7R 3X5\, Canada
ATTACH;FMTTYPE=image/jpeg:https://mommyconnections.ca/burlington/wp-content/uploads/sites/33/2020/02/Mom-Baby-horiz.jpg
GEO:43.3586157;-79.7894291
X-APPLE-STRUCTURED-LOCATION;VALUE=URI;X-ADDRESS=The WOMB Burlington 1159 King Rd. Burlington Ontario L7R 3X5 Canada;X-APPLE-RADIUS=500;X-TITLE=1159 King Rd.:geo:-79.7894291,43.3586157
END:VEVENT
BEGIN:VEVENT
DTSTART;TZID=America/Toronto:20260415T130000
DTEND;TZID=America/Toronto:20260415T140000
DTSTAMP:20260423T143354
CREATED:20260311T145359Z
LAST-MODIFIED:20260311T145359Z
UID:8381-1776258000-1776261600@mommyconnections.ca
SUMMARY:Mini Movers (8-18M): Wednesdays\, April 1-29
DESCRIPTION:Is your baby on the move? We have a program for that! \nThe days of chatting with other parents while your baby naps may be over – but it doesn’t mean the fun has to stop!  Join our Mini Movers program taking place at various locations across Burlington & Halton Region. \nMini Movers is a great opportunity to socialize while exploring and having fun with your crawler or early walker. We will sample five different parent & baby activities\, such as music\, arts and crafts\, baby gymnastics\, and more\, with fun seasonal activities. \nThis five week program runs Wednesdays\, April 1 to 29\, 2026. Classes will take place at various family-friendly venues across Burlington and Halton Region.  \nThis class is best suited for mobile babies approx. 8-18 months and their caregivers. The cost is $145+HST. \nIncluded in your registration fee is: \n\nFive 60-min classes – with fun activities and social time\nA private WhatsApp group chat – to stay connected outside of class time\n\nEach class will be limited to 12 participants. For our full cancellation policy\, click here. \nWhy Mommy Connections? \nHere are some of our past participants’ favourite things about this one-of-a-kind program (and why we think you’ll love it too!): \n\nIt’s a great way – and reason – to get out of the house with an older babe\nThe environment is warm\, welcoming and inclusive\nIt’s designed for crawlers and walkers – there is no expectation of silence or stillness!\nIt provides a unique chance to discover activities and try them ‘before you buy’\nThe expert information is tailored to the stage of parenting you’re at\nAll the freebies!\n\nClick ‘Register Now’ to grab your spot – or email burlington@mommyconnections.ca if you have questions. \nIt takes a village. We’re here to help you build yours.
URL:https://mommyconnections.ca/burlington/event/mini-movers-8-18m-wednesdays-april-1-29/2026-04-15/
ATTACH;FMTTYPE=image/png:https://mommyconnections.ca/burlington/wp-content/uploads/sites/33/2020/09/Screen-Shot-2020-09-29-at-11.14.03-PM.png
END:VEVENT
END:VCALENDAR