BEGIN:VCALENDAR
VERSION:2.0
PRODID:-//Mommy Connections Burlington - ECPv6.15.17.1//NONSGML v1.0//EN
CALSCALE:GREGORIAN
METHOD:PUBLISH
X-ORIGINAL-URL:https://mommyconnections.ca/burlington
X-WR-CALDESC:Events for Mommy Connections Burlington
REFRESH-INTERVAL;VALUE=DURATION:PT1H
X-Robots-Tag:noindex
X-PUBLISHED-TTL:PT1H
BEGIN:VTIMEZONE
TZID:America/Toronto
BEGIN:DAYLIGHT
TZOFFSETFROM:-0500
TZOFFSETTO:-0400
TZNAME:EDT
DTSTART:20250309T070000
END:DAYLIGHT
BEGIN:STANDARD
TZOFFSETFROM:-0400
TZOFFSETTO:-0500
TZNAME:EST
DTSTART:20251102T060000
END:STANDARD
BEGIN:DAYLIGHT
TZOFFSETFROM:-0500
TZOFFSETTO:-0400
TZNAME:EDT
DTSTART:20260308T070000
END:DAYLIGHT
BEGIN:STANDARD
TZOFFSETFROM:-0400
TZOFFSETTO:-0500
TZNAME:EST
DTSTART:20261101T060000
END:STANDARD
BEGIN:DAYLIGHT
TZOFFSETFROM:-0500
TZOFFSETTO:-0400
TZNAME:EDT
DTSTART:20270314T070000
END:DAYLIGHT
BEGIN:STANDARD
TZOFFSETFROM:-0400
TZOFFSETTO:-0500
TZNAME:EST
DTSTART:20271107T060000
END:STANDARD
END:VTIMEZONE
BEGIN:VEVENT
DTSTART;TZID=America/Toronto:20260423T100000
DTEND;TZID=America/Toronto:20260423T110000
DTSTAMP:20260423T130859
CREATED:20260311T145518Z
LAST-MODIFIED:20260311T145518Z
UID:8389-1776938400-1776942000@mommyconnections.ca
SUMMARY:Travelling Tots: Thursdays\, April 2-30
DESCRIPTION:Have a busy tot? Join us for five weeks of fun and discovery! \nOur Travelling Tots program provides toddlers (from 18 months to 3.5 years of age) and their caregivers with a unique opportunity to play\, explore\, and make new friends. We will sample five different toddler-friendly activities\, such as music\, arts and crafts\, soccer\, and more! \nThis five-week program runs Thursdays\, April 2-30\, 2026\, from 10-11am. Classes will take place at various family-friendly venues across Halton Region.  \nThis class is best best suited for toddlers and preschoolers with their caregivers. The cost is $145+HST. \nAre you a mom\, dad or caregiver of a toddler and an infant? No problem! Your infant can join in at no extra cost as long as they are comfortable being in a bucket seat or baby carrier. \nEach class will be limited to 10 participants. For our full cancellation policy\, click here. \nWhy Mommy Connections? \nHere are some of our past participants’ favourite things about this one-of-a-kind program (and why we think you’ll love it too!): \n\nIt’s toddler-focused – something that can be hard to find in a weekday daytime program\nNo two classes are the same\nIt’s (almost!) as much fun for caregivers as it is for tots\nIt provides a unique chance to try new activities ‘before you buy’\nAll the freebies!\n\nClick ‘Register Now’ to grab your spot – or email burlington@mommyconnections.ca if you have questions. \nIt takes a village. We’re here to help you build yours.
URL:https://mommyconnections.ca/burlington/event/travelling-tots-thursdays-april-2-30/2026-04-23/
ATTACH;FMTTYPE=image/jpeg:https://mommyconnections.ca/burlington/wp-content/uploads/sites/33/2023/03/Parent-Tot-website-product.jpg
END:VEVENT
BEGIN:VEVENT
DTSTART;TZID=America/Toronto:20260427T130000
DTEND;TZID=America/Toronto:20260427T140000
DTSTAMP:20260423T130859
CREATED:20260311T145247Z
LAST-MODIFIED:20260311T145247Z
UID:8377-1777294800-1777298400@mommyconnections.ca
SUMMARY:Mini Movers (8-18M): Mondays\, March 23 - April 27 (No class April 6)
DESCRIPTION:Is your baby on the move? We have a program for that! \nThe days of chatting with other parents while your baby naps may be over – but it doesn’t mean the fun has to stop!  Join our Mini Movers program taking place at various locations across Burlington & Halton Region. \nMini Movers is a great opportunity to socialize while exploring and having fun with your crawler or early walker. We will sample five different parent & baby activities\, such as music\, arts and crafts\, baby gymnastics\, and more\, with fun seasonal activities. \nThis five week program runs Mondays\, March 23 to April 27\, 2026. No class on Easter Monday\, April 6. Classes will take place at various family-friendly venues across Burlington and Halton Region.  \nThis class is best suited for mobile babies approx. 8-18 months and their caregivers. The cost is $145+HST. \nIncluded in your registration fee is: \n\nFive 60-min classes – with fun activities and social time\nA private WhatsApp group chat – to stay connected outside of class time\n\nEach class will be limited to 13 participants. For our full cancellation policy\, click here. \nWhy Mommy Connections? \nHere are some of our past participants’ favourite things about this one-of-a-kind program (and why we think you’ll love it too!): \n\nIt’s a great way – and reason – to get out of the house with an older babe\nThe environment is warm\, welcoming and inclusive\nIt’s designed for crawlers and walkers – there is no expectation of silence or stillness!\nIt provides a unique chance to discover activities and try them ‘before you buy’\nThe expert information is tailored to the stage of parenting you’re at\nAll the freebies!\n\nClick ‘Register Now’ to grab your spot – or email burlington@mommyconnections.ca if you have questions. \nIt takes a village. We’re here to help you build yours.
URL:https://mommyconnections.ca/burlington/event/mini-movers-8-18m-mondays-march-23-april-27-no-class-april-6/2026-04-27/
ATTACH;FMTTYPE=image/png:https://mommyconnections.ca/burlington/wp-content/uploads/sites/33/2020/09/Screen-Shot-2020-09-29-at-11.14.03-PM.png
END:VEVENT
BEGIN:VEVENT
DTSTART;TZID=America/Toronto:20260428T100000
DTEND;TZID=America/Toronto:20260428T113000
DTSTAMP:20260423T130859
CREATED:20260311T144946Z
LAST-MODIFIED:20260311T144946Z
UID:8361-1777370400-1777375800@mommyconnections.ca
SUMMARY:Pinedale Mom & Baby (0-8M): Tuesdays\, March 31 - May 5
DESCRIPTION:Meet other moms in Burlington while learning and having fun with your baby!  \nOur flagship Mom & Baby program offers new moms a unique opportunity to meet others\, gather valuable parenting info\, and learn about local programs and services – in a fun\, low-pressure\, social and inclusive environment. \nEach week features either a discussion led by a local expert on topics ranging from baby sleep to introducing solids to baby massage\, or a fun and interactive activity for mom and baby – like yoga or music.  There’s also always an informal opportunity to chat with others experiencing the same challenges\, fears and excitement as you are. \nThis six week program runs every Tuesday morning\, 10-11:30am from March 31 – May 5\, 2026. We will meet indoors at Gym & Juice\, which is located at 5230 South Service Road in the Pinedale neighbourhood (South Service & Appleby). \nThis class is ideal for moms and their non-mobile babies\, aged newborn to 8 months.  The cost is $175+HST. \nIncluded in your registration fee is: \n\nSix 90-min classes – each class full of valuable information\, connection\, and bonding opportunities\nA private WhatsApp group chat – to stay connected outside of class time\n\nEach class will be limited to 12 participants. Unfortunately you will not be allowed to bring older siblings to the class. \nWe will do our best to host classes in person\, however we reserve the right to move classes to a virtual format in the event of inclement weather\, illness or new government restrictions. For our full cancellation policy\, click here. \nWhy Mommy Connections? \nHere are some of our past participants’ favourite things about this one-of-a-kind program (and why we think you’ll love it too!): \n\nIt’s a great way – and reason – to get out of the house in the early months of parenthood\nThe environment is warm\, welcoming and inclusive\nYou’ll make connections that will carry you through your mat leave – and beyond\nIt provides a unique chance to try baby-focused activities ‘before you buy’\nThe expert information you’ll receive will make parenting easier (and more fun!)\nAll the freebies!\n\nClick ‘Register Now’ to grab your spot – or email burlington@mommyconnections.ca if you have questions. \nIt takes a village. We’re here to help you build yours.
URL:https://mommyconnections.ca/burlington/event/pinedale-mom-baby-0-8m-tuesdays-march-31-may-5/2026-04-28/
LOCATION:Gym & Juice Burlington
ATTACH;FMTTYPE=image/jpeg:https://mommyconnections.ca/burlington/wp-content/uploads/sites/33/2020/02/Mom-Baby-horiz.jpg
END:VEVENT
BEGIN:VEVENT
DTSTART;TZID=America/Toronto:20260429T110000
DTEND;TZID=America/Toronto:20260429T123000
DTSTAMP:20260423T130859
CREATED:20260311T145108Z
LAST-MODIFIED:20260311T145108Z
UID:8369-1777460400-1777465800@mommyconnections.ca
SUMMARY:Aldershot Mom & Baby (0-8M): Wednesdays\, March 25 - May 6
DESCRIPTION:Meet other moms in Burlington while learning and having fun with your baby!  \nOur flagship Mom & Baby program offers new moms a unique opportunity to meet others\, gather valuable parenting info\, and learn about local programs and services – in a fun\, low-pressure\, social and inclusive environment. \nEach week features either a discussion led by a local expert on topics ranging from baby sleep to introducing solids to baby massage\, or a fun and interactive activity for mom and baby – like yoga or music.  There’s also always an informal opportunity to chat with others experiencing the same challenges\, fears and excitement as you are. \nThis seven week program runs every Wednesday morning\, 11am-12:30pm from March 25 to May 6\, 2026. We will meet indoors at The WOMB (World of My Baby)\, which is located at 1159 King Rd in the Aldershot neighbourhood. \nThis class is ideal for moms and their non-mobile babies\, aged newborn to 8 months.  The cost is $205+HST. \nIncluded in your registration fee is: \n\nSeven 90-min classes – each class full of valuable information\, connection\, and bonding opportunities\nA private WhatsApp group chat – to stay connected outside of class time\n\nEach class will be limited to 13 participants. Unfortunately you will not be allowed to bring older siblings to the class. \nWe will do our best to host classes in person\, however we reserve the right to move classes to a virtual format in the event of inclement weather\, illness or new government restrictions. For our full cancellation policy\, click here. \nWhy Mommy Connections? \nHere are some of our past participants’ favourite things about this one-of-a-kind program (and why we think you’ll love it too!): \n\nIt’s a great way – and reason – to get out of the house in the early months of parenthood\nThe environment is warm\, welcoming and inclusive\nYou’ll make connections that will carry you through your mat leave – and beyond\nIt provides a unique chance to try baby-focused activities ‘before you buy’\nThe expert information you’ll receive will make parenting easier (and more fun!)\nAll the freebies!\n\nClick ‘Register Now’ to grab your spot – or email burlington@mommyconnections.ca if you have questions. \nIt takes a village. We’re here to help you build yours.
URL:https://mommyconnections.ca/burlington/event/aldershot-mom-baby-0-8m-wednesdays-march-25-may-6/2026-04-29/
LOCATION:The WOMB\, Burlington\, 1159 King Rd.\, Burlington\, Ontario\, L7R 3X5\, Canada
ATTACH;FMTTYPE=image/jpeg:https://mommyconnections.ca/burlington/wp-content/uploads/sites/33/2020/02/Mom-Baby-horiz.jpg
GEO:43.3586157;-79.7894291
X-APPLE-STRUCTURED-LOCATION;VALUE=URI;X-ADDRESS=The WOMB Burlington 1159 King Rd. Burlington Ontario L7R 3X5 Canada;X-APPLE-RADIUS=500;X-TITLE=1159 King Rd.:geo:-79.7894291,43.3586157
END:VEVENT
BEGIN:VEVENT
DTSTART;TZID=America/Toronto:20260429T130000
DTEND;TZID=America/Toronto:20260429T140000
DTSTAMP:20260423T130859
CREATED:20260311T145359Z
LAST-MODIFIED:20260311T145359Z
UID:8383-1777467600-1777471200@mommyconnections.ca
SUMMARY:Mini Movers (8-18M): Wednesdays\, April 1-29
DESCRIPTION:Is your baby on the move? We have a program for that! \nThe days of chatting with other parents while your baby naps may be over – but it doesn’t mean the fun has to stop!  Join our Mini Movers program taking place at various locations across Burlington & Halton Region. \nMini Movers is a great opportunity to socialize while exploring and having fun with your crawler or early walker. We will sample five different parent & baby activities\, such as music\, arts and crafts\, baby gymnastics\, and more\, with fun seasonal activities. \nThis five week program runs Wednesdays\, April 1 to 29\, 2026. Classes will take place at various family-friendly venues across Burlington and Halton Region.  \nThis class is best suited for mobile babies approx. 8-18 months and their caregivers. The cost is $145+HST. \nIncluded in your registration fee is: \n\nFive 60-min classes – with fun activities and social time\nA private WhatsApp group chat – to stay connected outside of class time\n\nEach class will be limited to 12 participants. For our full cancellation policy\, click here. \nWhy Mommy Connections? \nHere are some of our past participants’ favourite things about this one-of-a-kind program (and why we think you’ll love it too!): \n\nIt’s a great way – and reason – to get out of the house with an older babe\nThe environment is warm\, welcoming and inclusive\nIt’s designed for crawlers and walkers – there is no expectation of silence or stillness!\nIt provides a unique chance to discover activities and try them ‘before you buy’\nThe expert information is tailored to the stage of parenting you’re at\nAll the freebies!\n\nClick ‘Register Now’ to grab your spot – or email burlington@mommyconnections.ca if you have questions. \nIt takes a village. We’re here to help you build yours.
URL:https://mommyconnections.ca/burlington/event/mini-movers-8-18m-wednesdays-april-1-29/2026-04-29/
ATTACH;FMTTYPE=image/png:https://mommyconnections.ca/burlington/wp-content/uploads/sites/33/2020/09/Screen-Shot-2020-09-29-at-11.14.03-PM.png
END:VEVENT
BEGIN:VEVENT
DTSTART;TZID=America/Toronto:20260430T100000
DTEND;TZID=America/Toronto:20260430T110000
DTSTAMP:20260423T130859
CREATED:20260311T145518Z
LAST-MODIFIED:20260311T145518Z
UID:8390-1777543200-1777546800@mommyconnections.ca
SUMMARY:Travelling Tots: Thursdays\, April 2-30
DESCRIPTION:Have a busy tot? Join us for five weeks of fun and discovery! \nOur Travelling Tots program provides toddlers (from 18 months to 3.5 years of age) and their caregivers with a unique opportunity to play\, explore\, and make new friends. We will sample five different toddler-friendly activities\, such as music\, arts and crafts\, soccer\, and more! \nThis five-week program runs Thursdays\, April 2-30\, 2026\, from 10-11am. Classes will take place at various family-friendly venues across Halton Region.  \nThis class is best best suited for toddlers and preschoolers with their caregivers. The cost is $145+HST. \nAre you a mom\, dad or caregiver of a toddler and an infant? No problem! Your infant can join in at no extra cost as long as they are comfortable being in a bucket seat or baby carrier. \nEach class will be limited to 10 participants. For our full cancellation policy\, click here. \nWhy Mommy Connections? \nHere are some of our past participants’ favourite things about this one-of-a-kind program (and why we think you’ll love it too!): \n\nIt’s toddler-focused – something that can be hard to find in a weekday daytime program\nNo two classes are the same\nIt’s (almost!) as much fun for caregivers as it is for tots\nIt provides a unique chance to try new activities ‘before you buy’\nAll the freebies!\n\nClick ‘Register Now’ to grab your spot – or email burlington@mommyconnections.ca if you have questions. \nIt takes a village. We’re here to help you build yours.
URL:https://mommyconnections.ca/burlington/event/travelling-tots-thursdays-april-2-30/2026-04-30/
ATTACH;FMTTYPE=image/jpeg:https://mommyconnections.ca/burlington/wp-content/uploads/sites/33/2023/03/Parent-Tot-website-product.jpg
END:VEVENT
END:VCALENDAR