BEGIN:VCALENDAR
VERSION:2.0
PRODID:-//Mommy Connections Edmonton &amp; St. Albert - ECPv6.15.17.1//NONSGML v1.0//EN
CALSCALE:GREGORIAN
METHOD:PUBLISH
X-ORIGINAL-URL:https://mommyconnections.ca/edmonton-st-albert
X-WR-CALDESC:Events for Mommy Connections Edmonton &amp; St. Albert
REFRESH-INTERVAL;VALUE=DURATION:PT1H
X-Robots-Tag:noindex
X-PUBLISHED-TTL:PT1H
BEGIN:VTIMEZONE
TZID:America/Edmonton
BEGIN:DAYLIGHT
TZOFFSETFROM:-0700
TZOFFSETTO:-0600
TZNAME:MDT
DTSTART:20250309T090000
END:DAYLIGHT
BEGIN:STANDARD
TZOFFSETFROM:-0600
TZOFFSETTO:-0700
TZNAME:MST
DTSTART:20251102T080000
END:STANDARD
BEGIN:DAYLIGHT
TZOFFSETFROM:-0700
TZOFFSETTO:-0600
TZNAME:MDT
DTSTART:20260308T090000
END:DAYLIGHT
BEGIN:STANDARD
TZOFFSETFROM:-0600
TZOFFSETTO:-0700
TZNAME:MST
DTSTART:20261101T080000
END:STANDARD
BEGIN:DAYLIGHT
TZOFFSETFROM:-0700
TZOFFSETTO:-0600
TZNAME:MDT
DTSTART:20270314T090000
END:DAYLIGHT
BEGIN:STANDARD
TZOFFSETFROM:-0600
TZOFFSETTO:-0700
TZNAME:MST
DTSTART:20271107T080000
END:STANDARD
END:VTIMEZONE
BEGIN:VEVENT
DTSTART;TZID=America/Edmonton:20260530T150000
DTEND;TZID=America/Edmonton:20260706T160000
DTSTAMP:20260419T071157
CREATED:20260416T175222Z
LAST-MODIFIED:20260416T175348Z
UID:10001123-1780153200-1783353600@mommyconnections.ca
SUMMARY:South Edmonton Travelling Tots
DESCRIPTION:Have a busy tot? Join us for six weeks of fun and discovery in our Travelling Tots Program in South Edmonton this spring! \nOur popular Travelling Tots program provides toddlers (from 16  months to 4 years of age*) and their caregivers with a unique opportunity to play\, explore\, and make new friends. \nEach week\, we travel to a new location to enjoy a different structured activity – from music and gymnastics to dance and martial arts. \nAll activities are led by a local business\, giving you a unique opportunity to scope out and sample the activities available to you in South and West Edmonton. \nWe meet from 10:00 a.m. to 11:00 a.m. every Saturday. Start times may vary slightly. \nThis class is ideal for families with toddlers up to 4 years old. Moms\, dads\, grandparents\, or any other caregiver are welcome to attend with their toddler.  \nThe Details: \n\nClasses take place at various indoor locations in South Edmonton.\nStarting on May 23\, we’ll meet every Saturday at 10:00 a.m. (for a total of 6 sessions) *start times may vary\nOnce the activity portion of each class has finished\, we’ll spend time connecting through conversation while our toddlers have a snack from home.\nAll participants will be added to a private WhatsApp chat for this class.\n\nIncluded in your $139 registration fee is: \n\nSix weeks of FUN with the same group of caregivers and tots\nA mini photo shoot with Teagan Photography and one complementary digital photo from your gallery\n\nAdd a second toddler for only $65. \n**Please note that a single registration (one toddler) includes attendance for one adult and one child. Not all of our locations or activities can accommodate extra adults. If you register for two toddlers\, two adults are welcome to attend.
URL:https://mommyconnections.ca/edmonton-st-albert/event/south-edmonton-travelling-tots-3/2026-05-30/
CATEGORIES:Mom & Tot,Parent & Tot,Riverbend,South Edmonton,Southeast Edmonton,Southwest Edmonton,Summerside,Terwillegar,toddlers,Travelling Tots,West Edmonton,Windermere
ATTACH;FMTTYPE=image/jpeg:https://mommyconnections.ca/edmonton-st-albert/wp-content/uploads/sites/4/2022/02/Travelling-Tots-horiz-1.jpg
ORGANIZER;CN="Mommy Connections Edmonton & St. Albert":MAILTO:chelsey@mommyconnections.ca
END:VEVENT
BEGIN:VEVENT
DTSTART;TZID=America/Edmonton:20260606T150000
DTEND;TZID=America/Edmonton:20260713T160000
DTSTAMP:20260419T071157
CREATED:20260416T175222Z
LAST-MODIFIED:20260416T175348Z
UID:10001124-1780758000-1783958400@mommyconnections.ca
SUMMARY:South Edmonton Travelling Tots
DESCRIPTION:Have a busy tot? Join us for six weeks of fun and discovery in our Travelling Tots Program in South Edmonton this spring! \nOur popular Travelling Tots program provides toddlers (from 16  months to 4 years of age*) and their caregivers with a unique opportunity to play\, explore\, and make new friends. \nEach week\, we travel to a new location to enjoy a different structured activity – from music and gymnastics to dance and martial arts. \nAll activities are led by a local business\, giving you a unique opportunity to scope out and sample the activities available to you in South and West Edmonton. \nWe meet from 10:00 a.m. to 11:00 a.m. every Saturday. Start times may vary slightly. \nThis class is ideal for families with toddlers up to 4 years old. Moms\, dads\, grandparents\, or any other caregiver are welcome to attend with their toddler.  \nThe Details: \n\nClasses take place at various indoor locations in South Edmonton.\nStarting on May 23\, we’ll meet every Saturday at 10:00 a.m. (for a total of 6 sessions) *start times may vary\nOnce the activity portion of each class has finished\, we’ll spend time connecting through conversation while our toddlers have a snack from home.\nAll participants will be added to a private WhatsApp chat for this class.\n\nIncluded in your $139 registration fee is: \n\nSix weeks of FUN with the same group of caregivers and tots\nA mini photo shoot with Teagan Photography and one complementary digital photo from your gallery\n\nAdd a second toddler for only $65. \n**Please note that a single registration (one toddler) includes attendance for one adult and one child. Not all of our locations or activities can accommodate extra adults. If you register for two toddlers\, two adults are welcome to attend.
URL:https://mommyconnections.ca/edmonton-st-albert/event/south-edmonton-travelling-tots-3/2026-06-06/
CATEGORIES:Mom & Tot,Parent & Tot,Riverbend,South Edmonton,Southeast Edmonton,Southwest Edmonton,Summerside,Terwillegar,toddlers,Travelling Tots,West Edmonton,Windermere
ATTACH;FMTTYPE=image/jpeg:https://mommyconnections.ca/edmonton-st-albert/wp-content/uploads/sites/4/2022/02/Travelling-Tots-horiz-1.jpg
ORGANIZER;CN="Mommy Connections Edmonton & St. Albert":MAILTO:chelsey@mommyconnections.ca
END:VEVENT
BEGIN:VEVENT
DTSTART;TZID=America/Edmonton:20260613T150000
DTEND;TZID=America/Edmonton:20260720T160000
DTSTAMP:20260419T071157
CREATED:20260416T175222Z
LAST-MODIFIED:20260416T175348Z
UID:10001125-1781362800-1784563200@mommyconnections.ca
SUMMARY:South Edmonton Travelling Tots
DESCRIPTION:Have a busy tot? Join us for six weeks of fun and discovery in our Travelling Tots Program in South Edmonton this spring! \nOur popular Travelling Tots program provides toddlers (from 16  months to 4 years of age*) and their caregivers with a unique opportunity to play\, explore\, and make new friends. \nEach week\, we travel to a new location to enjoy a different structured activity – from music and gymnastics to dance and martial arts. \nAll activities are led by a local business\, giving you a unique opportunity to scope out and sample the activities available to you in South and West Edmonton. \nWe meet from 10:00 a.m. to 11:00 a.m. every Saturday. Start times may vary slightly. \nThis class is ideal for families with toddlers up to 4 years old. Moms\, dads\, grandparents\, or any other caregiver are welcome to attend with their toddler.  \nThe Details: \n\nClasses take place at various indoor locations in South Edmonton.\nStarting on May 23\, we’ll meet every Saturday at 10:00 a.m. (for a total of 6 sessions) *start times may vary\nOnce the activity portion of each class has finished\, we’ll spend time connecting through conversation while our toddlers have a snack from home.\nAll participants will be added to a private WhatsApp chat for this class.\n\nIncluded in your $139 registration fee is: \n\nSix weeks of FUN with the same group of caregivers and tots\nA mini photo shoot with Teagan Photography and one complementary digital photo from your gallery\n\nAdd a second toddler for only $65. \n**Please note that a single registration (one toddler) includes attendance for one adult and one child. Not all of our locations or activities can accommodate extra adults. If you register for two toddlers\, two adults are welcome to attend.
URL:https://mommyconnections.ca/edmonton-st-albert/event/south-edmonton-travelling-tots-3/2026-06-13/
CATEGORIES:Mom & Tot,Parent & Tot,Riverbend,South Edmonton,Southeast Edmonton,Southwest Edmonton,Summerside,Terwillegar,toddlers,Travelling Tots,West Edmonton,Windermere
ATTACH;FMTTYPE=image/jpeg:https://mommyconnections.ca/edmonton-st-albert/wp-content/uploads/sites/4/2022/02/Travelling-Tots-horiz-1.jpg
ORGANIZER;CN="Mommy Connections Edmonton & St. Albert":MAILTO:chelsey@mommyconnections.ca
END:VEVENT
BEGIN:VEVENT
DTSTART;TZID=America/Edmonton:20260620T150000
DTEND;TZID=America/Edmonton:20260727T160000
DTSTAMP:20260419T071157
CREATED:20260416T175222Z
LAST-MODIFIED:20260416T175348Z
UID:10001126-1781967600-1785168000@mommyconnections.ca
SUMMARY:South Edmonton Travelling Tots
DESCRIPTION:Have a busy tot? Join us for six weeks of fun and discovery in our Travelling Tots Program in South Edmonton this spring! \nOur popular Travelling Tots program provides toddlers (from 16  months to 4 years of age*) and their caregivers with a unique opportunity to play\, explore\, and make new friends. \nEach week\, we travel to a new location to enjoy a different structured activity – from music and gymnastics to dance and martial arts. \nAll activities are led by a local business\, giving you a unique opportunity to scope out and sample the activities available to you in South and West Edmonton. \nWe meet from 10:00 a.m. to 11:00 a.m. every Saturday. Start times may vary slightly. \nThis class is ideal for families with toddlers up to 4 years old. Moms\, dads\, grandparents\, or any other caregiver are welcome to attend with their toddler.  \nThe Details: \n\nClasses take place at various indoor locations in South Edmonton.\nStarting on May 23\, we’ll meet every Saturday at 10:00 a.m. (for a total of 6 sessions) *start times may vary\nOnce the activity portion of each class has finished\, we’ll spend time connecting through conversation while our toddlers have a snack from home.\nAll participants will be added to a private WhatsApp chat for this class.\n\nIncluded in your $139 registration fee is: \n\nSix weeks of FUN with the same group of caregivers and tots\nA mini photo shoot with Teagan Photography and one complementary digital photo from your gallery\n\nAdd a second toddler for only $65. \n**Please note that a single registration (one toddler) includes attendance for one adult and one child. Not all of our locations or activities can accommodate extra adults. If you register for two toddlers\, two adults are welcome to attend.
URL:https://mommyconnections.ca/edmonton-st-albert/event/south-edmonton-travelling-tots-3/2026-06-20/
CATEGORIES:Mom & Tot,Parent & Tot,Riverbend,South Edmonton,Southeast Edmonton,Southwest Edmonton,Summerside,Terwillegar,toddlers,Travelling Tots,West Edmonton,Windermere
ATTACH;FMTTYPE=image/jpeg:https://mommyconnections.ca/edmonton-st-albert/wp-content/uploads/sites/4/2022/02/Travelling-Tots-horiz-1.jpg
ORGANIZER;CN="Mommy Connections Edmonton & St. Albert":MAILTO:chelsey@mommyconnections.ca
END:VEVENT
BEGIN:VEVENT
DTSTART;TZID=America/Edmonton:20260627T150000
DTEND;TZID=America/Edmonton:20260803T160000
DTSTAMP:20260419T071157
CREATED:20260416T175222Z
LAST-MODIFIED:20260416T175348Z
UID:10001127-1782572400-1785772800@mommyconnections.ca
SUMMARY:South Edmonton Travelling Tots
DESCRIPTION:Have a busy tot? Join us for six weeks of fun and discovery in our Travelling Tots Program in South Edmonton this spring! \nOur popular Travelling Tots program provides toddlers (from 16  months to 4 years of age*) and their caregivers with a unique opportunity to play\, explore\, and make new friends. \nEach week\, we travel to a new location to enjoy a different structured activity – from music and gymnastics to dance and martial arts. \nAll activities are led by a local business\, giving you a unique opportunity to scope out and sample the activities available to you in South and West Edmonton. \nWe meet from 10:00 a.m. to 11:00 a.m. every Saturday. Start times may vary slightly. \nThis class is ideal for families with toddlers up to 4 years old. Moms\, dads\, grandparents\, or any other caregiver are welcome to attend with their toddler.  \nThe Details: \n\nClasses take place at various indoor locations in South Edmonton.\nStarting on May 23\, we’ll meet every Saturday at 10:00 a.m. (for a total of 6 sessions) *start times may vary\nOnce the activity portion of each class has finished\, we’ll spend time connecting through conversation while our toddlers have a snack from home.\nAll participants will be added to a private WhatsApp chat for this class.\n\nIncluded in your $139 registration fee is: \n\nSix weeks of FUN with the same group of caregivers and tots\nA mini photo shoot with Teagan Photography and one complementary digital photo from your gallery\n\nAdd a second toddler for only $65. \n**Please note that a single registration (one toddler) includes attendance for one adult and one child. Not all of our locations or activities can accommodate extra adults. If you register for two toddlers\, two adults are welcome to attend.
URL:https://mommyconnections.ca/edmonton-st-albert/event/south-edmonton-travelling-tots-3/2026-06-27/
CATEGORIES:Mom & Tot,Parent & Tot,Riverbend,South Edmonton,Southeast Edmonton,Southwest Edmonton,Summerside,Terwillegar,toddlers,Travelling Tots,West Edmonton,Windermere
ATTACH;FMTTYPE=image/jpeg:https://mommyconnections.ca/edmonton-st-albert/wp-content/uploads/sites/4/2022/02/Travelling-Tots-horiz-1.jpg
ORGANIZER;CN="Mommy Connections Edmonton & St. Albert":MAILTO:chelsey@mommyconnections.ca
END:VEVENT
BEGIN:VEVENT
DTSTART;TZID=America/Edmonton:20260707T183000
DTEND;TZID=America/Edmonton:20260707T200000
DTSTAMP:20260419T071157
CREATED:20260416T144423Z
LAST-MODIFIED:20260416T173525Z
UID:10001039-1783449000-1783454400@mommyconnections.ca
SUMMARY:South Edmonton Mom to Be
DESCRIPTION:Hey there mama-to-be! \nYou’re invited to our Mom to Be Program for expecting moms in South Edmonton. We will meet in-person each week and will be joined by the best local experts on all things pregnancy and postpartum! You’ll hear from a local lactation consultant on all about breastfeeding and infant feeding. You’ll learn all about postpartum mental health\, creating your own postpartum plan for a safe and healthy postpartum period. We’ll also delve into pelvic floor and core health. This class may also include a prenatal yoga or fitness class. Most importantly\, you’ll meet a village of supportive women who are at the same stage as you. \nWe meet from 6:30 – 8:00 p.m. on Tuesdays at Pine Health Edmonton. \nThis class is ideal for expecting moms at all stages. You do not need to be a first-time mom to attend. \nThe Details: \n\nClasses take place indoors at Pine Health\, located at 6720 104 St NW in Edmonton.\nStarting on June 9\, we’ll meet every Tuesday at 6:30 p.m. (for a total of 6 sessions)\nThe first 30 -60 minutes of each class will include an activity or discussion by a local expert\, such as mental health\, pelvic floor and core health\, breastfeeding\, prenatal yoga\, and more.\nOnce the activity portion of each class has finished\, we’ll spend time connecting through conversation.\nAll participants will be added to a private WhatsApp chat for this class.\n\nThe cost of this program is $139 + gst.  \nThis is a perfect program for all stages of pregnancy! \n**Please note: This program DOES NOT cover childbirth education. This program is meant for expecting moms only. Sorry\, no partners. \nREGISTER EARLY TO RESERVE YOUR SPOT!
URL:https://mommyconnections.ca/edmonton-st-albert/event/south-edmonton-mom-to-be-2/2026-07-07/
LOCATION:Pine Integrated Health\, 6720 104 St NW Suite 201\, Edmonton\, AB\, Canada
CATEGORIES:Ellerslie,Gold Bar,Mill Woods,Mom to Be,Old Strathcona,Prenatal,South Edmonton,Southeast Edmonton,Southwest Edmonton,Summerside,Terwillegar
ATTACH;FMTTYPE=image/jpeg:https://mommyconnections.ca/edmonton-st-albert/wp-content/uploads/sites/4/2021/02/better-mom-to-be-horriz.jpg
ORGANIZER;CN="Mommy Connections Edmonton & St. Albert":MAILTO:chelsey@mommyconnections.ca
GEO:53.5040472;-113.4982378
X-APPLE-STRUCTURED-LOCATION;VALUE=URI;X-ADDRESS=Pine Integrated Health 6720 104 St NW Suite 201 Edmonton AB Canada;X-APPLE-RADIUS=500;X-TITLE=6720 104 St NW Suite 201:geo:-113.4982378,53.5040472
END:VEVENT
BEGIN:VEVENT
DTSTART;TZID=America/Edmonton:20260714T183000
DTEND;TZID=America/Edmonton:20260714T200000
DTSTAMP:20260419T071157
CREATED:20260416T144423Z
LAST-MODIFIED:20260416T173525Z
UID:10001040-1784053800-1784059200@mommyconnections.ca
SUMMARY:South Edmonton Mom to Be
DESCRIPTION:Hey there mama-to-be! \nYou’re invited to our Mom to Be Program for expecting moms in South Edmonton. We will meet in-person each week and will be joined by the best local experts on all things pregnancy and postpartum! You’ll hear from a local lactation consultant on all about breastfeeding and infant feeding. You’ll learn all about postpartum mental health\, creating your own postpartum plan for a safe and healthy postpartum period. We’ll also delve into pelvic floor and core health. This class may also include a prenatal yoga or fitness class. Most importantly\, you’ll meet a village of supportive women who are at the same stage as you. \nWe meet from 6:30 – 8:00 p.m. on Tuesdays at Pine Health Edmonton. \nThis class is ideal for expecting moms at all stages. You do not need to be a first-time mom to attend. \nThe Details: \n\nClasses take place indoors at Pine Health\, located at 6720 104 St NW in Edmonton.\nStarting on June 9\, we’ll meet every Tuesday at 6:30 p.m. (for a total of 6 sessions)\nThe first 30 -60 minutes of each class will include an activity or discussion by a local expert\, such as mental health\, pelvic floor and core health\, breastfeeding\, prenatal yoga\, and more.\nOnce the activity portion of each class has finished\, we’ll spend time connecting through conversation.\nAll participants will be added to a private WhatsApp chat for this class.\n\nThe cost of this program is $139 + gst.  \nThis is a perfect program for all stages of pregnancy! \n**Please note: This program DOES NOT cover childbirth education. This program is meant for expecting moms only. Sorry\, no partners. \nREGISTER EARLY TO RESERVE YOUR SPOT!
URL:https://mommyconnections.ca/edmonton-st-albert/event/south-edmonton-mom-to-be-2/2026-07-14/
LOCATION:Pine Integrated Health\, 6720 104 St NW Suite 201\, Edmonton\, AB\, Canada
CATEGORIES:Ellerslie,Gold Bar,Mill Woods,Mom to Be,Old Strathcona,Prenatal,South Edmonton,Southeast Edmonton,Southwest Edmonton,Summerside,Terwillegar
ATTACH;FMTTYPE=image/jpeg:https://mommyconnections.ca/edmonton-st-albert/wp-content/uploads/sites/4/2021/02/better-mom-to-be-horriz.jpg
ORGANIZER;CN="Mommy Connections Edmonton & St. Albert":MAILTO:chelsey@mommyconnections.ca
GEO:53.5040472;-113.4982378
X-APPLE-STRUCTURED-LOCATION;VALUE=URI;X-ADDRESS=Pine Integrated Health 6720 104 St NW Suite 201 Edmonton AB Canada;X-APPLE-RADIUS=500;X-TITLE=6720 104 St NW Suite 201:geo:-113.4982378,53.5040472
END:VEVENT
END:VCALENDAR