BEGIN:VCALENDAR
VERSION:2.0
PRODID:-//Mommy Connections Milton - ECPv6.15.17.1//NONSGML v1.0//EN
CALSCALE:GREGORIAN
METHOD:PUBLISH
X-ORIGINAL-URL:https://mommyconnections.ca/milton
X-WR-CALDESC:Events for Mommy Connections Milton
REFRESH-INTERVAL;VALUE=DURATION:PT1H
X-Robots-Tag:noindex
X-PUBLISHED-TTL:PT1H
BEGIN:VTIMEZONE
TZID:America/Edmonton
BEGIN:DAYLIGHT
TZOFFSETFROM:-0700
TZOFFSETTO:-0600
TZNAME:MDT
DTSTART:20240310T090000
END:DAYLIGHT
BEGIN:STANDARD
TZOFFSETFROM:-0600
TZOFFSETTO:-0700
TZNAME:MST
DTSTART:20241103T080000
END:STANDARD
BEGIN:DAYLIGHT
TZOFFSETFROM:-0700
TZOFFSETTO:-0600
TZNAME:MDT
DTSTART:20250309T090000
END:DAYLIGHT
BEGIN:STANDARD
TZOFFSETFROM:-0600
TZOFFSETTO:-0700
TZNAME:MST
DTSTART:20251102T080000
END:STANDARD
BEGIN:DAYLIGHT
TZOFFSETFROM:-0700
TZOFFSETTO:-0600
TZNAME:MDT
DTSTART:20260308T090000
END:DAYLIGHT
BEGIN:STANDARD
TZOFFSETFROM:-0600
TZOFFSETTO:-0700
TZNAME:MST
DTSTART:20261101T080000
END:STANDARD
END:VTIMEZONE
BEGIN:VEVENT
DTSTART;TZID=America/Edmonton:20250206T130000
DTEND;TZID=America/Edmonton:20250206T140000
DTSTAMP:20260419T183544
CREATED:20250109T204548Z
LAST-MODIFIED:20250109T204548Z
UID:10000268-1738846800-1738850400@mommyconnections.ca
SUMMARY:Milton Mini Movers (8-18M): Thursdays\, Jan 30 - Feb 20
DESCRIPTION:Is your baby on the move? We have a program for that! \nThe days of chatting with other parents while your baby naps may be over – but it doesn’t mean the fun has to stop!  Join our Mini Movers program taking place at various locations across Milton & Halton Region. \nMini Movers is a great opportunity to socialize while exploring and having fun with your crawler or early walker. We will sample four different parent & baby activities\, such as music\, arts and crafts\, baby gymnastics\, and more\, with fun seasonal activities. \nThis four week program runs Thursdays\, January 30 to February 20\, from 1-2pm. Classes will take place at various family-friendly venues across Milton.  \nThis class is best suited for mobile babies approx. 8-18 months and their caregivers. The cost is $115+HST. \nIncluded in your registration fee is: \n\nFour 60-min classes – with fun activities and social time\nA bonus virtual workshop – 5 classes for the price of 4!\nA private WhatsApp group chat – to stay connected outside of class time\n\nEach class will be limited to 12 participants. For our full cancellation policy\, click here. \nWhy Mommy Connections? \nHere are some of our past participants’ favourite things about this one-of-a-kind program (and why we think you’ll love it too!): \n\nIt’s a great way – and reason – to get out of the house with an older babe\nThe environment is warm\, welcoming and inclusive\nIt’s designed for crawlers and walkers – there is no expectation of silence or stillness!\nIt provides a unique chance to discover activities and try them ‘before you buy’\nThe expert information is tailored to the stage of parenting you’re at\nAll the freebies!\n\nClick ‘Register Now’ to grab your spot – or email milton@mommyconnections.ca if you have questions. \nIt takes a village. We’re here to help you build yours.
URL:https://mommyconnections.ca/milton/event/milton-mini-movers-8-18m-thursdays-jan-30-feb-20/2025-02-06/
ATTACH;FMTTYPE=image/jpeg:https://mommyconnections.ca/milton/wp-content/uploads/sites/40/2020/02/Mini-Movers-horiz.jpg
END:VEVENT
BEGIN:VEVENT
DTSTART;TZID=America/Edmonton:20250211T130000
DTEND;TZID=America/Edmonton:20250211T140000
DTSTAMP:20260419T183544
CREATED:20250109T205151Z
LAST-MODIFIED:20250109T205151Z
UID:10000271-1739278800-1739282400@mommyconnections.ca
SUMMARY:Milton Mini Movers (8-18M): Tuesdays\, Feb 11 - March 4
DESCRIPTION:Is your baby on the move? We have a program for that! \nThe days of chatting with other parents while your baby naps may be over – but it doesn’t mean the fun has to stop!  Join our Mini Movers program taking place at various locations across Milton & Halton Region. \nMini Movers is a great opportunity to socialize while exploring and having fun with your crawler or early walker. We will sample four different parent & baby activities\, such as music\, arts and crafts\, baby gymnastics\, and more\, with fun seasonal activities. \nThis four week program runs Tuesdays\, February 11 to March 4\, from 1-2pm. Classes will take place at various family-friendly venues across Milton.  \nThis class is best suited for mobile babies approx. 8-18 months and their caregivers. The cost is $115+HST. \nIncluded in your registration fee is: \n\nFour 60-min classes – with fun activities and social time\nA bonus virtual workshop – 5 classes for the price of 4!\nA private WhatsApp group chat – to stay connected outside of class time\n\nEach class will be limited to 12 participants. For our full cancellation policy\, click here. \nWhy Mommy Connections? \nHere are some of our past participants’ favourite things about this one-of-a-kind program (and why we think you’ll love it too!): \n\nIt’s a great way – and reason – to get out of the house with an older babe\nThe environment is warm\, welcoming and inclusive\nIt’s designed for crawlers and walkers – there is no expectation of silence or stillness!\nIt provides a unique chance to discover activities and try them ‘before you buy’\nThe expert information is tailored to the stage of parenting you’re at\nAll the freebies!\n\nClick ‘Register Now’ to grab your spot – or email milton@mommyconnections.ca if you have questions. \nIt takes a village. We’re here to help you build yours.
URL:https://mommyconnections.ca/milton/event/milton-mini-movers-8-18m-tuesdays-feb-11-march-4/2025-02-11/
ATTACH;FMTTYPE=image/jpeg:https://mommyconnections.ca/milton/wp-content/uploads/sites/40/2020/02/Mini-Movers-horiz.jpg
END:VEVENT
BEGIN:VEVENT
DTSTART;TZID=America/Edmonton:20250213T130000
DTEND;TZID=America/Edmonton:20250213T140000
DTSTAMP:20260419T183544
CREATED:20250109T204548Z
LAST-MODIFIED:20250109T204548Z
UID:10000269-1739451600-1739455200@mommyconnections.ca
SUMMARY:Milton Mini Movers (8-18M): Thursdays\, Jan 30 - Feb 20
DESCRIPTION:Is your baby on the move? We have a program for that! \nThe days of chatting with other parents while your baby naps may be over – but it doesn’t mean the fun has to stop!  Join our Mini Movers program taking place at various locations across Milton & Halton Region. \nMini Movers is a great opportunity to socialize while exploring and having fun with your crawler or early walker. We will sample four different parent & baby activities\, such as music\, arts and crafts\, baby gymnastics\, and more\, with fun seasonal activities. \nThis four week program runs Thursdays\, January 30 to February 20\, from 1-2pm. Classes will take place at various family-friendly venues across Milton.  \nThis class is best suited for mobile babies approx. 8-18 months and their caregivers. The cost is $115+HST. \nIncluded in your registration fee is: \n\nFour 60-min classes – with fun activities and social time\nA bonus virtual workshop – 5 classes for the price of 4!\nA private WhatsApp group chat – to stay connected outside of class time\n\nEach class will be limited to 12 participants. For our full cancellation policy\, click here. \nWhy Mommy Connections? \nHere are some of our past participants’ favourite things about this one-of-a-kind program (and why we think you’ll love it too!): \n\nIt’s a great way – and reason – to get out of the house with an older babe\nThe environment is warm\, welcoming and inclusive\nIt’s designed for crawlers and walkers – there is no expectation of silence or stillness!\nIt provides a unique chance to discover activities and try them ‘before you buy’\nThe expert information is tailored to the stage of parenting you’re at\nAll the freebies!\n\nClick ‘Register Now’ to grab your spot – or email milton@mommyconnections.ca if you have questions. \nIt takes a village. We’re here to help you build yours.
URL:https://mommyconnections.ca/milton/event/milton-mini-movers-8-18m-thursdays-jan-30-feb-20/2025-02-13/
ATTACH;FMTTYPE=image/jpeg:https://mommyconnections.ca/milton/wp-content/uploads/sites/40/2020/02/Mini-Movers-horiz.jpg
END:VEVENT
BEGIN:VEVENT
DTSTART;TZID=America/Edmonton:20250218T130000
DTEND;TZID=America/Edmonton:20250218T140000
DTSTAMP:20260419T183544
CREATED:20250109T205151Z
LAST-MODIFIED:20250109T205151Z
UID:10000272-1739883600-1739887200@mommyconnections.ca
SUMMARY:Milton Mini Movers (8-18M): Tuesdays\, Feb 11 - March 4
DESCRIPTION:Is your baby on the move? We have a program for that! \nThe days of chatting with other parents while your baby naps may be over – but it doesn’t mean the fun has to stop!  Join our Mini Movers program taking place at various locations across Milton & Halton Region. \nMini Movers is a great opportunity to socialize while exploring and having fun with your crawler or early walker. We will sample four different parent & baby activities\, such as music\, arts and crafts\, baby gymnastics\, and more\, with fun seasonal activities. \nThis four week program runs Tuesdays\, February 11 to March 4\, from 1-2pm. Classes will take place at various family-friendly venues across Milton.  \nThis class is best suited for mobile babies approx. 8-18 months and their caregivers. The cost is $115+HST. \nIncluded in your registration fee is: \n\nFour 60-min classes – with fun activities and social time\nA bonus virtual workshop – 5 classes for the price of 4!\nA private WhatsApp group chat – to stay connected outside of class time\n\nEach class will be limited to 12 participants. For our full cancellation policy\, click here. \nWhy Mommy Connections? \nHere are some of our past participants’ favourite things about this one-of-a-kind program (and why we think you’ll love it too!): \n\nIt’s a great way – and reason – to get out of the house with an older babe\nThe environment is warm\, welcoming and inclusive\nIt’s designed for crawlers and walkers – there is no expectation of silence or stillness!\nIt provides a unique chance to discover activities and try them ‘before you buy’\nThe expert information is tailored to the stage of parenting you’re at\nAll the freebies!\n\nClick ‘Register Now’ to grab your spot – or email milton@mommyconnections.ca if you have questions. \nIt takes a village. We’re here to help you build yours.
URL:https://mommyconnections.ca/milton/event/milton-mini-movers-8-18m-tuesdays-feb-11-march-4/2025-02-18/
ATTACH;FMTTYPE=image/jpeg:https://mommyconnections.ca/milton/wp-content/uploads/sites/40/2020/02/Mini-Movers-horiz.jpg
END:VEVENT
BEGIN:VEVENT
DTSTART;TZID=America/Edmonton:20250220T130000
DTEND;TZID=America/Edmonton:20250220T140000
DTSTAMP:20260419T183544
CREATED:20250109T204548Z
LAST-MODIFIED:20250109T204548Z
UID:10000270-1740056400-1740060000@mommyconnections.ca
SUMMARY:Milton Mini Movers (8-18M): Thursdays\, Jan 30 - Feb 20
DESCRIPTION:Is your baby on the move? We have a program for that! \nThe days of chatting with other parents while your baby naps may be over – but it doesn’t mean the fun has to stop!  Join our Mini Movers program taking place at various locations across Milton & Halton Region. \nMini Movers is a great opportunity to socialize while exploring and having fun with your crawler or early walker. We will sample four different parent & baby activities\, such as music\, arts and crafts\, baby gymnastics\, and more\, with fun seasonal activities. \nThis four week program runs Thursdays\, January 30 to February 20\, from 1-2pm. Classes will take place at various family-friendly venues across Milton.  \nThis class is best suited for mobile babies approx. 8-18 months and their caregivers. The cost is $115+HST. \nIncluded in your registration fee is: \n\nFour 60-min classes – with fun activities and social time\nA bonus virtual workshop – 5 classes for the price of 4!\nA private WhatsApp group chat – to stay connected outside of class time\n\nEach class will be limited to 12 participants. For our full cancellation policy\, click here. \nWhy Mommy Connections? \nHere are some of our past participants’ favourite things about this one-of-a-kind program (and why we think you’ll love it too!): \n\nIt’s a great way – and reason – to get out of the house with an older babe\nThe environment is warm\, welcoming and inclusive\nIt’s designed for crawlers and walkers – there is no expectation of silence or stillness!\nIt provides a unique chance to discover activities and try them ‘before you buy’\nThe expert information is tailored to the stage of parenting you’re at\nAll the freebies!\n\nClick ‘Register Now’ to grab your spot – or email milton@mommyconnections.ca if you have questions. \nIt takes a village. We’re here to help you build yours.
URL:https://mommyconnections.ca/milton/event/milton-mini-movers-8-18m-thursdays-jan-30-feb-20/2025-02-20/
ATTACH;FMTTYPE=image/jpeg:https://mommyconnections.ca/milton/wp-content/uploads/sites/40/2020/02/Mini-Movers-horiz.jpg
END:VEVENT
BEGIN:VEVENT
DTSTART;TZID=America/Edmonton:20250225T130000
DTEND;TZID=America/Edmonton:20250225T140000
DTSTAMP:20260419T183544
CREATED:20250109T205151Z
LAST-MODIFIED:20250109T205151Z
UID:10000273-1740488400-1740492000@mommyconnections.ca
SUMMARY:Milton Mini Movers (8-18M): Tuesdays\, Feb 11 - March 4
DESCRIPTION:Is your baby on the move? We have a program for that! \nThe days of chatting with other parents while your baby naps may be over – but it doesn’t mean the fun has to stop!  Join our Mini Movers program taking place at various locations across Milton & Halton Region. \nMini Movers is a great opportunity to socialize while exploring and having fun with your crawler or early walker. We will sample four different parent & baby activities\, such as music\, arts and crafts\, baby gymnastics\, and more\, with fun seasonal activities. \nThis four week program runs Tuesdays\, February 11 to March 4\, from 1-2pm. Classes will take place at various family-friendly venues across Milton.  \nThis class is best suited for mobile babies approx. 8-18 months and their caregivers. The cost is $115+HST. \nIncluded in your registration fee is: \n\nFour 60-min classes – with fun activities and social time\nA bonus virtual workshop – 5 classes for the price of 4!\nA private WhatsApp group chat – to stay connected outside of class time\n\nEach class will be limited to 12 participants. For our full cancellation policy\, click here. \nWhy Mommy Connections? \nHere are some of our past participants’ favourite things about this one-of-a-kind program (and why we think you’ll love it too!): \n\nIt’s a great way – and reason – to get out of the house with an older babe\nThe environment is warm\, welcoming and inclusive\nIt’s designed for crawlers and walkers – there is no expectation of silence or stillness!\nIt provides a unique chance to discover activities and try them ‘before you buy’\nThe expert information is tailored to the stage of parenting you’re at\nAll the freebies!\n\nClick ‘Register Now’ to grab your spot – or email milton@mommyconnections.ca if you have questions. \nIt takes a village. We’re here to help you build yours.
URL:https://mommyconnections.ca/milton/event/milton-mini-movers-8-18m-tuesdays-feb-11-march-4/2025-02-25/
ATTACH;FMTTYPE=image/jpeg:https://mommyconnections.ca/milton/wp-content/uploads/sites/40/2020/02/Mini-Movers-horiz.jpg
END:VEVENT
END:VCALENDAR