BEGIN:VCALENDAR
VERSION:2.0
PRODID:-//Mommy Connections Oakville - ECPv6.15.17.1//NONSGML v1.0//EN
CALSCALE:GREGORIAN
METHOD:PUBLISH
X-WR-CALNAME:Mommy Connections Oakville
X-ORIGINAL-URL:https://mommyconnections.ca/oakville
X-WR-CALDESC:Events for Mommy Connections Oakville
REFRESH-INTERVAL;VALUE=DURATION:PT1H
X-Robots-Tag:noindex
X-PUBLISHED-TTL:PT1H
BEGIN:VTIMEZONE
TZID:America/Toronto
BEGIN:DAYLIGHT
TZOFFSETFROM:-0500
TZOFFSETTO:-0400
TZNAME:EDT
DTSTART:20250309T070000
END:DAYLIGHT
BEGIN:STANDARD
TZOFFSETFROM:-0400
TZOFFSETTO:-0500
TZNAME:EST
DTSTART:20251102T060000
END:STANDARD
BEGIN:DAYLIGHT
TZOFFSETFROM:-0500
TZOFFSETTO:-0400
TZNAME:EDT
DTSTART:20260308T070000
END:DAYLIGHT
BEGIN:STANDARD
TZOFFSETFROM:-0400
TZOFFSETTO:-0500
TZNAME:EST
DTSTART:20261101T060000
END:STANDARD
BEGIN:DAYLIGHT
TZOFFSETFROM:-0500
TZOFFSETTO:-0400
TZNAME:EDT
DTSTART:20270314T070000
END:DAYLIGHT
BEGIN:STANDARD
TZOFFSETFROM:-0400
TZOFFSETTO:-0500
TZNAME:EST
DTSTART:20271107T060000
END:STANDARD
END:VTIMEZONE
BEGIN:VEVENT
DTSTART;TZID=America/Toronto:20260409T100000
DTEND;TZID=America/Toronto:20260409T110000
DTSTAMP:20260421T181318
CREATED:20260311T181733Z
LAST-MODIFIED:20260311T181733Z
UID:14700-1775728800-1775732400@mommyconnections.ca
SUMMARY:Travelling Tots: Thursdays\, April 2-30
DESCRIPTION:Have a busy tot? Join us for five weeks of fun and discovery! \nOur Travelling Tots program provides toddlers (from 18 months to 3.5 years of age) and their caregivers with a unique opportunity to play\, explore\, and make new friends. We will sample five different toddler-friendly activities\, such as music\, arts and crafts\, soccer\, and more! \nThis five-week program runs Thursdays\, April 2-30\, 2026\, from 10-11am. Classes will take place at various family-friendly venues across Halton Region.  \nThis class is best best suited for toddlers and preschoolers with their caregivers. The cost is $145+HST. \nAre you a mom\, dad or caregiver of a toddler and an infant? No problem! Your infant can join in at no extra cost as long as they are comfortable being in a bucket seat or baby carrier. \nEach class will be limited to 10 participants. For our full cancellation policy\, click here. \nWhy Mommy Connections? \nHere are some of our past participants’ favourite things about this one-of-a-kind program (and why we think you’ll love it too!): \n\nIt’s toddler-focused – something that can be hard to find in a weekday daytime program\nNo two classes are the same\nIt’s (almost!) as much fun for caregivers as it is for tots\nIt provides a unique chance to try new activities ‘before you buy’\nAll the freebies!\n\nClick ‘Register Now’ to grab your spot – or email oakville@mommyconnections.ca if you have questions. \nIt takes a village. We’re here to help you build yours.
URL:https://mommyconnections.ca/oakville/event/travelling-tots-thursdays-april-2-30/2026-04-09/
ATTACH;FMTTYPE=image/jpeg:https://mommyconnections.ca/oakville/wp-content/uploads/sites/10/2023/03/Parent-Tot-website-product.jpg
END:VEVENT
BEGIN:VEVENT
DTSTART;TZID=America/Toronto:20260409T110000
DTEND;TZID=America/Toronto:20260409T123000
DTSTAMP:20260421T181318
CREATED:20260311T180757Z
LAST-MODIFIED:20260311T180757Z
UID:14673-1775732400-1775737800@mommyconnections.ca
SUMMARY:Glen Abbey Mom & Baby: Thursdays\, March 26 - May 7
DESCRIPTION:Meet other moms in Oakville while learning and having fun with your baby!  \nOur flagship Mom & Baby program offers new moms a unique opportunity to meet others\, gather valuable parenting info\, and learn about local programs and services – in a fun\, low-pressure\, social and inclusive environment. \nEach week features either a discussion led by a local expert on topics ranging from baby sleep to introducing solids to baby massage\, or a fun and interactive activity for mom and baby – like yoga or music.  There’s also always an informal opportunity to chat with others experiencing the same challenges\, fears and excitement as you are. \nThis seven week program runs every Thursday morning\, 11am-12:30pm from March 26 to May 7\, 2026. We will meet indoors at Makewell Women’s & Pelvic Health\, located at 710 Dorval Dr\, near Dorval & QEW. \nThis class is ideal for moms and their non-mobile babies\, aged newborn to 8 months.  The cost is $205+HST. \nIncluded in your registration fee is: \n\nSeven 90-min classes – each class full of valuable information\, connection\, and bonding opportunities\nA private WhatsApp group chat – to stay connected outside of class time\n\nThis class will be limited to 9 moms. Unfortunately you will not be allowed to bring older siblings to the class. \nWe will do our best to host classes in person\, however we reserve the right to move classes to a virtual format in the event of inclement weather\, illness or new government restrictions. For our full cancellation policy\, click here. \nWhy Mommy Connections? \nHere are some of our past participants’ favourite things about this one-of-a-kind program (and why we think you’ll love it too!): \n\nIt’s a great way – and reason – to get out of the house in the early months of parenthood\nThe environment is warm\, welcoming and inclusive\nYou’ll make connections that will carry you through your mat leave – and beyond\nIt provides a unique chance to try baby-focused activities ‘before you buy’\nThe expert information you’ll receive will make parenting easier (and more fun!)\nAll the freebies!\n\nClick ‘Register Now’ to grab your spot – or email oakville@mommyconnections.ca if you have questions. \nIt takes a village. We’re here to help you build yours.
URL:https://mommyconnections.ca/oakville/event/glen-abbey-mom-baby-thursdays-march-26-may-7/2026-04-09/
LOCATION:Makewell Health
ATTACH;FMTTYPE=image/png:https://mommyconnections.ca/oakville/wp-content/uploads/sites/10/2020/08/Screen-Shot-2020-08-27-at-5.29.38-PM.png
END:VEVENT
BEGIN:VEVENT
DTSTART;TZID=America/Toronto:20260409T130000
DTEND;TZID=America/Toronto:20260409T140000
DTSTAMP:20260421T181318
CREATED:20260311T181402Z
LAST-MODIFIED:20260311T181402Z
UID:14692-1775739600-1775743200@mommyconnections.ca
SUMMARY:Mini Movers: Thursdays\, April 2-30
DESCRIPTION:Is your baby on the move? We have a program for that! \nThe days of chatting with other parents while your baby naps may be over – but it doesn’t mean the fun has to stop!  Join our Mini Movers program taking place at various locations across Oakville & Halton Region. \nMini Movers is a great opportunity to socialize while exploring and having fun with your crawler or early walker. We will sample five different parent & baby activities\, such as music\, arts and crafts\, baby gymnastics\, and more\, with fun seasonal activities. \nThis five week program runs Thursdays\, April 2-30\, 2026. Classes will take place at various family-friendly venues across Oakville and nearby surrounding areas.\n \nThis class is best suited for mobile babies approx. 8-18 months and their caregivers. The cost is $145+HST. \nIncluded in your registration fee is: \n\nFive 60-min classes – with fun activities and social time\nA private WhatsApp group chat – to stay connected outside of class time\n\nEach class will be limited to 12 participants. For our full cancellation policy\, click here. \nWhy Mommy Connections? \nHere are some of our past participants’ favourite things about this one-of-a-kind program (and why we think you’ll love it too!): \n\nIt’s a great way – and reason – to get out of the house with an older babe\nThe environment is warm\, welcoming and inclusive\nIt’s designed for crawlers and walkers – there is no expectation of silence or stillness!\nIt provides a unique chance to discover activities and try them ‘before you buy’\nThe expert information is tailored to the stage of parenting you’re at\nAll the freebies!\n\nClick ‘Register Now’ to grab your spot – or email oakville@mommyconnections.ca if you have questions. \nIt takes a village. We’re here to help you build yours.
URL:https://mommyconnections.ca/oakville/event/mini-movers-thursdays-april-2-30/2026-04-09/
ATTACH;FMTTYPE=image/png:https://mommyconnections.ca/oakville/wp-content/uploads/sites/10/2020/10/Screen-Shot-2020-09-29-at-11.14.03-PM.png
END:VEVENT
END:VCALENDAR