BEGIN:VCALENDAR
VERSION:2.0
PRODID:-//Mommy Connections Red Deer &amp; Central Alberta - ECPv6.15.17.1//NONSGML v1.0//EN
CALSCALE:GREGORIAN
METHOD:PUBLISH
X-WR-CALNAME:Mommy Connections Red Deer &amp; Central Alberta
X-ORIGINAL-URL:https://mommyconnections.ca/reddeer-central-alberta
X-WR-CALDESC:Events for Mommy Connections Red Deer &amp; Central Alberta
REFRESH-INTERVAL;VALUE=DURATION:PT1H
X-Robots-Tag:noindex
X-PUBLISHED-TTL:PT1H
BEGIN:VTIMEZONE
TZID:America/Edmonton
BEGIN:DAYLIGHT
TZOFFSETFROM:-0700
TZOFFSETTO:-0600
TZNAME:MDT
DTSTART:20250309T090000
END:DAYLIGHT
BEGIN:STANDARD
TZOFFSETFROM:-0600
TZOFFSETTO:-0700
TZNAME:MST
DTSTART:20251102T080000
END:STANDARD
BEGIN:DAYLIGHT
TZOFFSETFROM:-0700
TZOFFSETTO:-0600
TZNAME:MDT
DTSTART:20260308T090000
END:DAYLIGHT
BEGIN:STANDARD
TZOFFSETFROM:-0600
TZOFFSETTO:-0700
TZNAME:MST
DTSTART:20261101T080000
END:STANDARD
BEGIN:DAYLIGHT
TZOFFSETFROM:-0700
TZOFFSETTO:-0600
TZNAME:MDT
DTSTART:20270314T090000
END:DAYLIGHT
BEGIN:STANDARD
TZOFFSETFROM:-0600
TZOFFSETTO:-0700
TZNAME:MST
DTSTART:20271107T080000
END:STANDARD
END:VTIMEZONE
BEGIN:VEVENT
DTSTART;TZID=America/Edmonton:20260512T123000
DTEND;TZID=America/Edmonton:20260512T133000
DTSTAMP:20260420T050234
CREATED:20260415T181559Z
LAST-MODIFIED:20260415T181559Z
UID:6745-1778589000-1778592600@mommyconnections.ca
SUMMARY:Red Deer Mini Movers
DESCRIPTION:Have a busy\, on-the move baby? Learn\, socialize and have fun with your active ‘older’ babe! Join us for six weeks of fun and discovery in our Mini Movers Program for families in Red Deer & Sylvan Lake this spring! \nThe evolution of our flagship Mom & Baby program\, Mini Movers offers the same format and benefits – but geared towards crawlers\, scooters and early walkers. \nEach week features a fun interactive activity or keepsake for mom and baby – such as music\, gymnastics\, and sensory play OR a discussion led by a local expert on topics such as picky eating and infant speech and development. There will also be an opportunity to chat with others experiencing the same challenges\, fears and excitement as you are. \nThis class is ideal for moms\, dads\, and other caregivers with babies 8 – 16 months. \nThe Details: \n\nClasses take place indoors at Premier Academy\, located at 7619 Gaetz Ave Bay #1\, in Red Deer. This class may have field trips and start times may vary\nStarting on May 12\, we’ll meet every Tuesday at 12:30 p.m. (for a total of 6 sessions)\nThe first 30 – 45 minutes of each class will include an activity or discussion by a local expert.\nOnce the activity portion of each class has finished\, we’ll spend time connecting through conversation.\nAll participants will be added to a private WhatsApp chat for this class.\n\nIncluded in your $125 registration fee is: \n\n\n\nSix classes full of information\, bonding opportunities and connection\nA Professional Mini Photo Shoot and one complementary digital photo from your gallery\n\n\n\nHave twins? Add a second baby for only $50. Choose your options from the drop-down menu. \n 
URL:https://mommyconnections.ca/reddeer-central-alberta/event/red-deer-mini-movers-2/2026-05-12/
LOCATION:Premier Academy\, 7619 Gaetz Ave Bay #1\, Red Deer
CATEGORIES:Blackfalds,lacombe,Mini Movers,Mom & Baby,mommy and me,Parent & Tot,Postnatal,red deer,sessions,sylvan lake
ATTACH;FMTTYPE=image/jpeg:https://mommyconnections.ca/reddeer-central-alberta/wp-content/uploads/sites/19/2023/04/horizonatal-mini-movers.jpg
ORGANIZER;CN="Mommy Connections Red Deer":MAILTO:brittanyt@mommyconnections.ca
END:VEVENT
BEGIN:VEVENT
DTSTART;TZID=America/Edmonton:20260513T120000
DTEND;TZID=America/Edmonton:20260513T133000
DTSTAMP:20260420T050234
CREATED:20260415T175953Z
LAST-MODIFIED:20260415T175953Z
UID:6738-1778673600-1778679000@mommyconnections.ca
SUMMARY:Red Deer Mom & Baby
DESCRIPTION:Learn\, have fun with your baby\, and meet other new moms in Red Deer and Sylvan Lake in our Mom & Baby Program this spring in Red Deer.\n \nOur flagship Mom & Baby program offers new moms a unique opportunity to meet other moms\, learn about local programs and services\, and gather valuable parenting info – in a fun\, low-pressure\, inclusive environment. \nEach week features a discussion\, keepsake\, or activity led by a local expert on topics ranging from sleep and introducing solids to babywearing and mom and baby photos. Plus an informal opportunity to chat with others experiencing the same challenges\, fears and excitement as you are. \nWe meet on Wednesdays from 12 – 1:30 p.m. at Make Your Mark Dance. \nThis class is ideal for moms with babies 0 – 9 months. \nThe Details: \n\nClasses take place indoors\, at Make Your Mark Dance\, located at 4716 60 St. in Red Deer\nStarting on May 13\, we’ll meet every Wednesday at 12 p.m. (for a total of 6 sessions)\nThe first 30 – 60 minutes of each class will include an activity or discussion by a local expert\, such as infant speech\, yoga\, infant sleep\, music\, pelvic floor and core health\, music\, and more.\nOnce the activity portion of each class has finished\, we’ll spend time connecting through conversation.\nAll participants will be added to a private WhatsApp chat for this class.\n\nIncluded in your $125 registration fee is: \n\nSix classes full of information\, bonding opportunities and connection\nA professional mini Mom & Baby Photo Shoot and one complementary digital photo from your gallery
URL:https://mommyconnections.ca/reddeer-central-alberta/event/red-deer-mom-baby-4/2026-05-13/
LOCATION:Make Your Mark Dance\, 60 Street\, Red Deer\, Red Deer County\, T4N 7C7\, Canada
CATEGORIES:Blackfalds,lacombe,Mom & Baby,mommy and me,Postnatal,red deer,sessions,sylvan lake
ATTACH;FMTTYPE=image/jpeg:https://mommyconnections.ca/reddeer-central-alberta/wp-content/uploads/sites/19/2020/02/Mom-Baby-horiz.jpg
ORGANIZER;CN="Mommy Connections Red Deer":MAILTO:brittanyt@mommyconnections.ca
GEO:52.2815527;-113.8074281
X-APPLE-STRUCTURED-LOCATION;VALUE=URI;X-ADDRESS=Make Your Mark Dance 60 Street Red Deer Red Deer County T4N 7C7 Canada;X-APPLE-RADIUS=500;X-TITLE=60 Street:geo:-113.8074281,52.2815527
END:VEVENT
BEGIN:VEVENT
DTSTART;TZID=America/Edmonton:20260515T100000
DTEND;TZID=America/Edmonton:20260515T110000
DTSTAMP:20260420T050234
CREATED:20260415T181704Z
LAST-MODIFIED:20260415T181704Z
UID:6753-1778839200-1778842800@mommyconnections.ca
SUMMARY:Travelling Tots
DESCRIPTION:Have a busy tot? Join us for six weeks of fun and discovery in our Travelling Tots Program in Red Deer and Sylvan Lake this spring! \nOur popular Travelling Tots program provides toddlers (from 16 months to 4 years of age*) and their caregivers with a unique opportunity to play\, explore\, and make new friends in Red Deer and Sylvan Lake. \nEach week\, we travel to a new location to enjoy a different structured activity – from music and gymnastics to dance and martial arts. \nAll activities are led by a local business\, giving you a unique opportunity to scope out and sample the activities available to you in Red Deer. \nWe meet from 10:00 a.m. to 11:00 a.m. every Friday. Start times may vary slightly. \nThis class is ideal for families with toddlers up to 4 years old. Moms\, dads\, grandparents\, or any other caregiver are welcome to attend with their toddler.  \nThe Details: \n\nClasses take place at various indoor locations in Red Deer and area.\nStarting on May 15\, we’ll meet every Friday at 10:00 a.m. (for a total of 6 sessions) *start times may vary\nOnce the activity portion of each class has finished\, we’ll spend time connecting through conversation while our toddlers have a snack from home.\nAll participants will be added to a private WhatsApp chat for this class.\n\nIncluded in your $125 registration fee is: \n\nSix weeks of FUN with the same group of caregivers and tots\nA mini professional photo shoot and one complementary digital photo from your gallery\n\n**Please note that a single registration (one toddler) includes attendance for one adult and one child. Not all of our locations or activities can accommodate extra adults. If you register for two toddlers\, two adults are welcome to attend.
URL:https://mommyconnections.ca/reddeer-central-alberta/event/travelling-tots-4/2026-05-15/
CATEGORIES:Blackfalds,lacombe,Mom & Tot,mommy and me,Parent & Tot,Postnatal,red deer,sessions,sylvan lake,Travelling Tots
ATTACH;FMTTYPE=image/jpeg:https://mommyconnections.ca/reddeer-central-alberta/wp-content/uploads/sites/19/2023/04/Travelling-Tots-horiz.jpg
ORGANIZER;CN="Mommy Connections Red Deer":MAILTO:brittanyt@mommyconnections.ca
END:VEVENT
BEGIN:VEVENT
DTSTART;TZID=America/Edmonton:20260519T123000
DTEND;TZID=America/Edmonton:20260519T133000
DTSTAMP:20260420T050234
CREATED:20260415T181559Z
LAST-MODIFIED:20260415T181559Z
UID:6747-1779193800-1779197400@mommyconnections.ca
SUMMARY:Red Deer Mini Movers
DESCRIPTION:Have a busy\, on-the move baby? Learn\, socialize and have fun with your active ‘older’ babe! Join us for six weeks of fun and discovery in our Mini Movers Program for families in Red Deer & Sylvan Lake this spring! \nThe evolution of our flagship Mom & Baby program\, Mini Movers offers the same format and benefits – but geared towards crawlers\, scooters and early walkers. \nEach week features a fun interactive activity or keepsake for mom and baby – such as music\, gymnastics\, and sensory play OR a discussion led by a local expert on topics such as picky eating and infant speech and development. There will also be an opportunity to chat with others experiencing the same challenges\, fears and excitement as you are. \nThis class is ideal for moms\, dads\, and other caregivers with babies 8 – 16 months. \nThe Details: \n\nClasses take place indoors at Premier Academy\, located at 7619 Gaetz Ave Bay #1\, in Red Deer. This class may have field trips and start times may vary\nStarting on May 12\, we’ll meet every Tuesday at 12:30 p.m. (for a total of 6 sessions)\nThe first 30 – 45 minutes of each class will include an activity or discussion by a local expert.\nOnce the activity portion of each class has finished\, we’ll spend time connecting through conversation.\nAll participants will be added to a private WhatsApp chat for this class.\n\nIncluded in your $125 registration fee is: \n\n\n\nSix classes full of information\, bonding opportunities and connection\nA Professional Mini Photo Shoot and one complementary digital photo from your gallery\n\n\n\nHave twins? Add a second baby for only $50. Choose your options from the drop-down menu. \n 
URL:https://mommyconnections.ca/reddeer-central-alberta/event/red-deer-mini-movers-2/2026-05-19/
LOCATION:Premier Academy\, 7619 Gaetz Ave Bay #1\, Red Deer
CATEGORIES:Blackfalds,lacombe,Mini Movers,Mom & Baby,mommy and me,Parent & Tot,Postnatal,red deer,sessions,sylvan lake
ATTACH;FMTTYPE=image/jpeg:https://mommyconnections.ca/reddeer-central-alberta/wp-content/uploads/sites/19/2023/04/horizonatal-mini-movers.jpg
ORGANIZER;CN="Mommy Connections Red Deer":MAILTO:brittanyt@mommyconnections.ca
END:VEVENT
BEGIN:VEVENT
DTSTART;TZID=America/Edmonton:20260520T120000
DTEND;TZID=America/Edmonton:20260520T133000
DTSTAMP:20260420T050234
CREATED:20260415T175953Z
LAST-MODIFIED:20260415T175953Z
UID:6739-1779278400-1779283800@mommyconnections.ca
SUMMARY:Red Deer Mom & Baby
DESCRIPTION:Learn\, have fun with your baby\, and meet other new moms in Red Deer and Sylvan Lake in our Mom & Baby Program this spring in Red Deer.\n \nOur flagship Mom & Baby program offers new moms a unique opportunity to meet other moms\, learn about local programs and services\, and gather valuable parenting info – in a fun\, low-pressure\, inclusive environment. \nEach week features a discussion\, keepsake\, or activity led by a local expert on topics ranging from sleep and introducing solids to babywearing and mom and baby photos. Plus an informal opportunity to chat with others experiencing the same challenges\, fears and excitement as you are. \nWe meet on Wednesdays from 12 – 1:30 p.m. at Make Your Mark Dance. \nThis class is ideal for moms with babies 0 – 9 months. \nThe Details: \n\nClasses take place indoors\, at Make Your Mark Dance\, located at 4716 60 St. in Red Deer\nStarting on May 13\, we’ll meet every Wednesday at 12 p.m. (for a total of 6 sessions)\nThe first 30 – 60 minutes of each class will include an activity or discussion by a local expert\, such as infant speech\, yoga\, infant sleep\, music\, pelvic floor and core health\, music\, and more.\nOnce the activity portion of each class has finished\, we’ll spend time connecting through conversation.\nAll participants will be added to a private WhatsApp chat for this class.\n\nIncluded in your $125 registration fee is: \n\nSix classes full of information\, bonding opportunities and connection\nA professional mini Mom & Baby Photo Shoot and one complementary digital photo from your gallery
URL:https://mommyconnections.ca/reddeer-central-alberta/event/red-deer-mom-baby-4/2026-05-20/
LOCATION:Make Your Mark Dance\, 60 Street\, Red Deer\, Red Deer County\, T4N 7C7\, Canada
CATEGORIES:Blackfalds,lacombe,Mom & Baby,mommy and me,Postnatal,red deer,sessions,sylvan lake
ATTACH;FMTTYPE=image/jpeg:https://mommyconnections.ca/reddeer-central-alberta/wp-content/uploads/sites/19/2020/02/Mom-Baby-horiz.jpg
ORGANIZER;CN="Mommy Connections Red Deer":MAILTO:brittanyt@mommyconnections.ca
GEO:52.2815527;-113.8074281
X-APPLE-STRUCTURED-LOCATION;VALUE=URI;X-ADDRESS=Make Your Mark Dance 60 Street Red Deer Red Deer County T4N 7C7 Canada;X-APPLE-RADIUS=500;X-TITLE=60 Street:geo:-113.8074281,52.2815527
END:VEVENT
BEGIN:VEVENT
DTSTART;TZID=America/Edmonton:20260522T100000
DTEND;TZID=America/Edmonton:20260522T110000
DTSTAMP:20260420T050234
CREATED:20260415T181704Z
LAST-MODIFIED:20260415T181704Z
UID:6754-1779444000-1779447600@mommyconnections.ca
SUMMARY:Travelling Tots
DESCRIPTION:Have a busy tot? Join us for six weeks of fun and discovery in our Travelling Tots Program in Red Deer and Sylvan Lake this spring! \nOur popular Travelling Tots program provides toddlers (from 16 months to 4 years of age*) and their caregivers with a unique opportunity to play\, explore\, and make new friends in Red Deer and Sylvan Lake. \nEach week\, we travel to a new location to enjoy a different structured activity – from music and gymnastics to dance and martial arts. \nAll activities are led by a local business\, giving you a unique opportunity to scope out and sample the activities available to you in Red Deer. \nWe meet from 10:00 a.m. to 11:00 a.m. every Friday. Start times may vary slightly. \nThis class is ideal for families with toddlers up to 4 years old. Moms\, dads\, grandparents\, or any other caregiver are welcome to attend with their toddler.  \nThe Details: \n\nClasses take place at various indoor locations in Red Deer and area.\nStarting on May 15\, we’ll meet every Friday at 10:00 a.m. (for a total of 6 sessions) *start times may vary\nOnce the activity portion of each class has finished\, we’ll spend time connecting through conversation while our toddlers have a snack from home.\nAll participants will be added to a private WhatsApp chat for this class.\n\nIncluded in your $125 registration fee is: \n\nSix weeks of FUN with the same group of caregivers and tots\nA mini professional photo shoot and one complementary digital photo from your gallery\n\n**Please note that a single registration (one toddler) includes attendance for one adult and one child. Not all of our locations or activities can accommodate extra adults. If you register for two toddlers\, two adults are welcome to attend.
URL:https://mommyconnections.ca/reddeer-central-alberta/event/travelling-tots-4/2026-05-22/
CATEGORIES:Blackfalds,lacombe,Mom & Tot,mommy and me,Parent & Tot,Postnatal,red deer,sessions,sylvan lake,Travelling Tots
ATTACH;FMTTYPE=image/jpeg:https://mommyconnections.ca/reddeer-central-alberta/wp-content/uploads/sites/19/2023/04/Travelling-Tots-horiz.jpg
ORGANIZER;CN="Mommy Connections Red Deer":MAILTO:brittanyt@mommyconnections.ca
END:VEVENT
BEGIN:VEVENT
DTSTART;TZID=America/Edmonton:20260526T123000
DTEND;TZID=America/Edmonton:20260526T133000
DTSTAMP:20260420T050234
CREATED:20260415T181559Z
LAST-MODIFIED:20260415T181559Z
UID:6748-1779798600-1779802200@mommyconnections.ca
SUMMARY:Red Deer Mini Movers
DESCRIPTION:Have a busy\, on-the move baby? Learn\, socialize and have fun with your active ‘older’ babe! Join us for six weeks of fun and discovery in our Mini Movers Program for families in Red Deer & Sylvan Lake this spring! \nThe evolution of our flagship Mom & Baby program\, Mini Movers offers the same format and benefits – but geared towards crawlers\, scooters and early walkers. \nEach week features a fun interactive activity or keepsake for mom and baby – such as music\, gymnastics\, and sensory play OR a discussion led by a local expert on topics such as picky eating and infant speech and development. There will also be an opportunity to chat with others experiencing the same challenges\, fears and excitement as you are. \nThis class is ideal for moms\, dads\, and other caregivers with babies 8 – 16 months. \nThe Details: \n\nClasses take place indoors at Premier Academy\, located at 7619 Gaetz Ave Bay #1\, in Red Deer. This class may have field trips and start times may vary\nStarting on May 12\, we’ll meet every Tuesday at 12:30 p.m. (for a total of 6 sessions)\nThe first 30 – 45 minutes of each class will include an activity or discussion by a local expert.\nOnce the activity portion of each class has finished\, we’ll spend time connecting through conversation.\nAll participants will be added to a private WhatsApp chat for this class.\n\nIncluded in your $125 registration fee is: \n\n\n\nSix classes full of information\, bonding opportunities and connection\nA Professional Mini Photo Shoot and one complementary digital photo from your gallery\n\n\n\nHave twins? Add a second baby for only $50. Choose your options from the drop-down menu. \n 
URL:https://mommyconnections.ca/reddeer-central-alberta/event/red-deer-mini-movers-2/2026-05-26/
LOCATION:Premier Academy\, 7619 Gaetz Ave Bay #1\, Red Deer
CATEGORIES:Blackfalds,lacombe,Mini Movers,Mom & Baby,mommy and me,Parent & Tot,Postnatal,red deer,sessions,sylvan lake
ATTACH;FMTTYPE=image/jpeg:https://mommyconnections.ca/reddeer-central-alberta/wp-content/uploads/sites/19/2023/04/horizonatal-mini-movers.jpg
ORGANIZER;CN="Mommy Connections Red Deer":MAILTO:brittanyt@mommyconnections.ca
END:VEVENT
BEGIN:VEVENT
DTSTART;TZID=America/Edmonton:20260527T120000
DTEND;TZID=America/Edmonton:20260527T133000
DTSTAMP:20260420T050234
CREATED:20260415T175953Z
LAST-MODIFIED:20260415T175953Z
UID:6740-1779883200-1779888600@mommyconnections.ca
SUMMARY:Red Deer Mom & Baby
DESCRIPTION:Learn\, have fun with your baby\, and meet other new moms in Red Deer and Sylvan Lake in our Mom & Baby Program this spring in Red Deer.\n \nOur flagship Mom & Baby program offers new moms a unique opportunity to meet other moms\, learn about local programs and services\, and gather valuable parenting info – in a fun\, low-pressure\, inclusive environment. \nEach week features a discussion\, keepsake\, or activity led by a local expert on topics ranging from sleep and introducing solids to babywearing and mom and baby photos. Plus an informal opportunity to chat with others experiencing the same challenges\, fears and excitement as you are. \nWe meet on Wednesdays from 12 – 1:30 p.m. at Make Your Mark Dance. \nThis class is ideal for moms with babies 0 – 9 months. \nThe Details: \n\nClasses take place indoors\, at Make Your Mark Dance\, located at 4716 60 St. in Red Deer\nStarting on May 13\, we’ll meet every Wednesday at 12 p.m. (for a total of 6 sessions)\nThe first 30 – 60 minutes of each class will include an activity or discussion by a local expert\, such as infant speech\, yoga\, infant sleep\, music\, pelvic floor and core health\, music\, and more.\nOnce the activity portion of each class has finished\, we’ll spend time connecting through conversation.\nAll participants will be added to a private WhatsApp chat for this class.\n\nIncluded in your $125 registration fee is: \n\nSix classes full of information\, bonding opportunities and connection\nA professional mini Mom & Baby Photo Shoot and one complementary digital photo from your gallery
URL:https://mommyconnections.ca/reddeer-central-alberta/event/red-deer-mom-baby-4/2026-05-27/
LOCATION:Make Your Mark Dance\, 60 Street\, Red Deer\, Red Deer County\, T4N 7C7\, Canada
CATEGORIES:Blackfalds,lacombe,Mom & Baby,mommy and me,Postnatal,red deer,sessions,sylvan lake
ATTACH;FMTTYPE=image/jpeg:https://mommyconnections.ca/reddeer-central-alberta/wp-content/uploads/sites/19/2020/02/Mom-Baby-horiz.jpg
ORGANIZER;CN="Mommy Connections Red Deer":MAILTO:brittanyt@mommyconnections.ca
GEO:52.2815527;-113.8074281
X-APPLE-STRUCTURED-LOCATION;VALUE=URI;X-ADDRESS=Make Your Mark Dance 60 Street Red Deer Red Deer County T4N 7C7 Canada;X-APPLE-RADIUS=500;X-TITLE=60 Street:geo:-113.8074281,52.2815527
END:VEVENT
BEGIN:VEVENT
DTSTART;TZID=America/Edmonton:20260529T100000
DTEND;TZID=America/Edmonton:20260529T110000
DTSTAMP:20260420T050234
CREATED:20260415T181704Z
LAST-MODIFIED:20260415T181704Z
UID:6755-1780048800-1780052400@mommyconnections.ca
SUMMARY:Travelling Tots
DESCRIPTION:Have a busy tot? Join us for six weeks of fun and discovery in our Travelling Tots Program in Red Deer and Sylvan Lake this spring! \nOur popular Travelling Tots program provides toddlers (from 16 months to 4 years of age*) and their caregivers with a unique opportunity to play\, explore\, and make new friends in Red Deer and Sylvan Lake. \nEach week\, we travel to a new location to enjoy a different structured activity – from music and gymnastics to dance and martial arts. \nAll activities are led by a local business\, giving you a unique opportunity to scope out and sample the activities available to you in Red Deer. \nWe meet from 10:00 a.m. to 11:00 a.m. every Friday. Start times may vary slightly. \nThis class is ideal for families with toddlers up to 4 years old. Moms\, dads\, grandparents\, or any other caregiver are welcome to attend with their toddler.  \nThe Details: \n\nClasses take place at various indoor locations in Red Deer and area.\nStarting on May 15\, we’ll meet every Friday at 10:00 a.m. (for a total of 6 sessions) *start times may vary\nOnce the activity portion of each class has finished\, we’ll spend time connecting through conversation while our toddlers have a snack from home.\nAll participants will be added to a private WhatsApp chat for this class.\n\nIncluded in your $125 registration fee is: \n\nSix weeks of FUN with the same group of caregivers and tots\nA mini professional photo shoot and one complementary digital photo from your gallery\n\n**Please note that a single registration (one toddler) includes attendance for one adult and one child. Not all of our locations or activities can accommodate extra adults. If you register for two toddlers\, two adults are welcome to attend.
URL:https://mommyconnections.ca/reddeer-central-alberta/event/travelling-tots-4/2026-05-29/
CATEGORIES:Blackfalds,lacombe,Mom & Tot,mommy and me,Parent & Tot,Postnatal,red deer,sessions,sylvan lake,Travelling Tots
ATTACH;FMTTYPE=image/jpeg:https://mommyconnections.ca/reddeer-central-alberta/wp-content/uploads/sites/19/2023/04/Travelling-Tots-horiz.jpg
ORGANIZER;CN="Mommy Connections Red Deer":MAILTO:brittanyt@mommyconnections.ca
END:VEVENT
END:VCALENDAR